BEGIN:VCALENDAR
VERSION:2.0
PRODID:-//Grand Rapids Zoo - Boulder Ridge Wild Animal Park - ECPv6.15.20//NONSGML v1.0//EN
CALSCALE:GREGORIAN
METHOD:PUBLISH
X-WR-CALNAME:Grand Rapids Zoo - Boulder Ridge Wild Animal Park
X-ORIGINAL-URL:https://boulderridgewap.com
X-WR-CALDESC:Events for Grand Rapids Zoo - Boulder Ridge Wild Animal Park
REFRESH-INTERVAL;VALUE=DURATION:PT1H
X-Robots-Tag:noindex
X-PUBLISHED-TTL:PT1H
BEGIN:VTIMEZONE
TZID:UTC
BEGIN:STANDARD
TZOFFSETFROM:+0000
TZOFFSETTO:+0000
TZNAME:UTC
DTSTART:20250101T000000
END:STANDARD
END:VTIMEZONE
BEGIN:VEVENT
DTSTART;TZID=UTC:20260425T100000
DTEND;TZID=UTC:20260425T180000
DTSTAMP:20260425T142516
CREATED:20250113T100024Z
LAST-MODIFIED:20260422T192821Z
UID:278-1777111200-1777140000@boulderridgewap.com
SUMMARY:World Penguin Day
DESCRIPTION:🐧 World Penguin Day at Boulder Ridge Wild Animal Park 🐧 \n📅 World Penguin Day – April 25\n🕘 Saturday (10 AM – 6 PM) \nWe’ve added even more to make this day unforgettable! \nJoin us for a full lineup of penguin-themed activities\, including special enrichment\, feeding time\, and keeper talks where you can learn more about these amazing animals. \n✨ Penguin Day Schedule: \n11:00 AM – Penguin Enrichment\n1:00 PM – Penguin Keeper Talk\n2:00 PM – Penguin Feeding + Keeper Talk \n🎨 Penguin paintings will also be available for purchase — unique artwork created by the penguins themselves! \nThis is the perfect chance to get up close\, learn something new\, and enjoy a special day with the family. \n🕘 We are Open this Weekend Saturday (10 AM – 6 PM) & Sunday (12PM – 6PM)\n🎟 April Special: This is your last chance to get 10% OFF year-long memberships when purchased at the zoo during open days in April! \nWe’ll see you at the zoo! 🐧
URL:https://boulderridgewap.com/event/world-penguin-day/
LOCATION:MI
ATTACH;FMTTYPE=image/png:https://boulderridgewap.com/wp-content/uploads/2025/01/world-penguin-day-1.png
ORGANIZER;CN="Boulder Ridge WAP":MAILTO:info@boulderridgewap.com
END:VEVENT
END:VCALENDAR